BEGIN:VCALENDAR
VERSION:2.0
PRODID:-//Bowmen of Bruntwood - ECPv6.15.20//NONSGML v1.0//EN
CALSCALE:GREGORIAN
METHOD:PUBLISH
X-WR-CALNAME:Bowmen of Bruntwood
X-ORIGINAL-URL:https://www.bowmenofbruntwood.co.uk
X-WR-CALDESC:Events for Bowmen of Bruntwood
REFRESH-INTERVAL;VALUE=DURATION:PT1H
X-Robots-Tag:noindex
X-PUBLISHED-TTL:PT1H
BEGIN:VTIMEZONE
TZID:Europe/London
BEGIN:DAYLIGHT
TZOFFSETFROM:+0000
TZOFFSETTO:+0100
TZNAME:BST
DTSTART:20230326T010000
END:DAYLIGHT
BEGIN:STANDARD
TZOFFSETFROM:+0100
TZOFFSETTO:+0000
TZNAME:GMT
DTSTART:20231029T010000
END:STANDARD
BEGIN:DAYLIGHT
TZOFFSETFROM:+0000
TZOFFSETTO:+0100
TZNAME:BST
DTSTART:20240331T010000
END:DAYLIGHT
BEGIN:STANDARD
TZOFFSETFROM:+0100
TZOFFSETTO:+0000
TZNAME:GMT
DTSTART:20241027T010000
END:STANDARD
BEGIN:DAYLIGHT
TZOFFSETFROM:+0000
TZOFFSETTO:+0100
TZNAME:BST
DTSTART:20250330T010000
END:DAYLIGHT
BEGIN:STANDARD
TZOFFSETFROM:+0100
TZOFFSETTO:+0000
TZNAME:GMT
DTSTART:20251026T010000
END:STANDARD
BEGIN:DAYLIGHT
TZOFFSETFROM:+0000
TZOFFSETTO:+0100
TZNAME:BST
DTSTART:20260329T010000
END:DAYLIGHT
BEGIN:STANDARD
TZOFFSETFROM:+0100
TZOFFSETTO:+0000
TZNAME:GMT
DTSTART:20261025T010000
END:STANDARD
END:VTIMEZONE
BEGIN:VEVENT
DTSTART;TZID=Europe/London:20251023T193000
DTEND;TZID=Europe/London:20251023T210000
DTSTAMP:20260420T074651
CREATED:20260407T162135Z
LAST-MODIFIED:20260407T162135Z
UID:23883-1761247800-1761253200@www.bowmenofbruntwood.co.uk
SUMMARY:Club Open Meeting
DESCRIPTION:
URL:https://www.bowmenofbruntwood.co.uk/index.php/event/club-open-meeting/
ATTACH;FMTTYPE=image/jpeg:https://www.bowmenofbruntwood.co.uk/wp-content/uploads/2023/04/IMG_4107.jpeg
END:VEVENT
BEGIN:VEVENT
DTSTART;TZID=Europe/London:20250816T090000
DTEND;TZID=Europe/London:20250816T120000
DTSTAMP:20260420T074651
CREATED:20260407T162134Z
LAST-MODIFIED:20260407T162134Z
UID:23882-1755334800-1755345600@www.bowmenofbruntwood.co.uk
SUMMARY:Beginners Course – Morning Session (Part 1)
DESCRIPTION:
URL:https://www.bowmenofbruntwood.co.uk/index.php/event/beginners-course-morning-session-part-1-3/
CATEGORIES:Beginners Coaching
ATTACH;FMTTYPE=image/jpeg:https://www.bowmenofbruntwood.co.uk/wp-content/uploads/2023/04/IMG_5003.jpg
END:VEVENT
BEGIN:VEVENT
DTSTART;TZID=Europe/London:20250810T100000
DTEND;TZID=Europe/London:20250810T130000
DTSTAMP:20260420T074651
CREATED:20260407T162150Z
LAST-MODIFIED:20260407T162150Z
UID:23887-1754820000-1754830800@www.bowmenofbruntwood.co.uk
SUMMARY:Handicap Shoot – Windsor
DESCRIPTION:
URL:https://www.bowmenofbruntwood.co.uk/index.php/event/handicap-shoot-windsor/
CATEGORIES:Club Competition
END:VEVENT
BEGIN:VEVENT
DTSTART;TZID=Europe/London:20240309T110000
DTEND;TZID=Europe/London:20241118T000000
DTSTAMP:20260420T074651
CREATED:20260407T162204Z
LAST-MODIFIED:20260407T162204Z
UID:23891-1709982000-1731888000@www.bowmenofbruntwood.co.uk
SUMMARY:Target Field Round at BoB
DESCRIPTION:
URL:https://www.bowmenofbruntwood.co.uk/index.php/event/target-field-round-at-bob/
ATTACH;FMTTYPE=image/jpeg:https://www.bowmenofbruntwood.co.uk/wp-content/uploads/2024/11/target-field-round.jpeg
END:VEVENT
END:VCALENDAR