BEGIN:VCALENDAR
VERSION:2.0
PRODID:-//Bowmen of Bruntwood - ECPv6.15.20//NONSGML v1.0//EN
CALSCALE:GREGORIAN
METHOD:PUBLISH
X-WR-CALNAME:Bowmen of Bruntwood
X-ORIGINAL-URL:https://www.bowmenofbruntwood.co.uk
X-WR-CALDESC:Events for Bowmen of Bruntwood
REFRESH-INTERVAL;VALUE=DURATION:PT1H
X-Robots-Tag:noindex
X-PUBLISHED-TTL:PT1H
BEGIN:VTIMEZONE
TZID:Europe/London
BEGIN:DAYLIGHT
TZOFFSETFROM:+0000
TZOFFSETTO:+0100
TZNAME:BST
DTSTART:20250330T010000
END:DAYLIGHT
BEGIN:STANDARD
TZOFFSETFROM:+0100
TZOFFSETTO:+0000
TZNAME:GMT
DTSTART:20251026T010000
END:STANDARD
BEGIN:DAYLIGHT
TZOFFSETFROM:+0000
TZOFFSETTO:+0100
TZNAME:BST
DTSTART:20260329T010000
END:DAYLIGHT
BEGIN:STANDARD
TZOFFSETFROM:+0100
TZOFFSETTO:+0000
TZNAME:GMT
DTSTART:20261025T010000
END:STANDARD
BEGIN:DAYLIGHT
TZOFFSETFROM:+0000
TZOFFSETTO:+0100
TZNAME:BST
DTSTART:20270328T010000
END:DAYLIGHT
BEGIN:STANDARD
TZOFFSETFROM:+0100
TZOFFSETTO:+0000
TZNAME:GMT
DTSTART:20271031T010000
END:STANDARD
END:VTIMEZONE
BEGIN:VEVENT
DTSTART;TZID=Europe/London:20260829T090000
DTEND;TZID=Europe/London:20260829T140000
DTSTAMP:20260420T021022
CREATED:20260407T162148Z
LAST-MODIFIED:20260407T162148Z
UID:23884-1787994000-1788012000@www.bowmenofbruntwood.co.uk
SUMMARY:Work Party
DESCRIPTION:
URL:https://www.bowmenofbruntwood.co.uk/index.php/event/work-party/
CATEGORIES:Work Party
ATTACH;FMTTYPE=image/jpeg:https://www.bowmenofbruntwood.co.uk/wp-content/uploads/2023/04/IMG_4100.jpeg
END:VEVENT
BEGIN:VEVENT
DTSTART;TZID=Europe/London:20260903T193000
DTEND;TZID=Europe/London:20260903T193000
DTSTAMP:20260420T021022
CREATED:20260407T162203Z
LAST-MODIFIED:20260407T162203Z
UID:23889-1788463800-1788463800@www.bowmenofbruntwood.co.uk
SUMMARY:Club Open Meeting
DESCRIPTION:
URL:https://www.bowmenofbruntwood.co.uk/index.php/event/club-open-meeting-2/
CATEGORIES:Club Meeting
ATTACH;FMTTYPE=image/jpeg:https://www.bowmenofbruntwood.co.uk/wp-content/uploads/2023/04/IMG_4107.jpeg
END:VEVENT
BEGIN:VEVENT
DTSTART;TZID=Europe/London:20260913T100000
DTEND;TZID=Europe/London:20260913T160000
DTSTAMP:20260420T021022
CREATED:20260407T162128Z
LAST-MODIFIED:20260407T162128Z
UID:23875-1789293600-1789315200@www.bowmenofbruntwood.co.uk
SUMMARY:Bruntwood Club Championships
DESCRIPTION:
URL:https://www.bowmenofbruntwood.co.uk/index.php/event/bruntwood-club-championships/
CATEGORIES:Club Competition
ATTACH;FMTTYPE=image/jpeg:https://www.bowmenofbruntwood.co.uk/wp-content/uploads/2023/04/IMG_6955.jpeg
END:VEVENT
END:VCALENDAR