BEGIN:VCALENDAR
VERSION:2.0
PRODID:-//Bowmen of Bruntwood - ECPv6.15.20//NONSGML v1.0//EN
CALSCALE:GREGORIAN
METHOD:PUBLISH
X-ORIGINAL-URL:https://www.bowmenofbruntwood.co.uk
X-WR-CALDESC:Events for Bowmen of Bruntwood
REFRESH-INTERVAL;VALUE=DURATION:PT1H
X-Robots-Tag:noindex
X-PUBLISHED-TTL:PT1H
BEGIN:VTIMEZONE
TZID:Europe/London
BEGIN:DAYLIGHT
TZOFFSETFROM:+0000
TZOFFSETTO:+0100
TZNAME:BST
DTSTART:20250330T010000
END:DAYLIGHT
BEGIN:STANDARD
TZOFFSETFROM:+0100
TZOFFSETTO:+0000
TZNAME:GMT
DTSTART:20251026T010000
END:STANDARD
BEGIN:DAYLIGHT
TZOFFSETFROM:+0000
TZOFFSETTO:+0100
TZNAME:BST
DTSTART:20260329T010000
END:DAYLIGHT
BEGIN:STANDARD
TZOFFSETFROM:+0100
TZOFFSETTO:+0000
TZNAME:GMT
DTSTART:20261025T010000
END:STANDARD
BEGIN:DAYLIGHT
TZOFFSETFROM:+0000
TZOFFSETTO:+0100
TZNAME:BST
DTSTART:20270328T010000
END:DAYLIGHT
BEGIN:STANDARD
TZOFFSETFROM:+0100
TZOFFSETTO:+0000
TZNAME:GMT
DTSTART:20271031T010000
END:STANDARD
END:VTIMEZONE
BEGIN:VEVENT
DTSTART;TZID=Europe/London:20260606T090000
DTEND;TZID=Europe/London:20260606T140000
DTSTAMP:20260419T160044
CREATED:20260407T162149Z
LAST-MODIFIED:20260407T162149Z
UID:23885-1780736400-1780754400@www.bowmenofbruntwood.co.uk
SUMMARY:Work Party
DESCRIPTION:
URL:https://www.bowmenofbruntwood.co.uk/index.php/event/work-party-2/
CATEGORIES:Work Party
ATTACH;FMTTYPE=image/jpeg:https://www.bowmenofbruntwood.co.uk/wp-content/uploads/2023/04/IMG_4100.jpeg
END:VEVENT
BEGIN:VEVENT
DTSTART;TZID=Europe/London:20260829T090000
DTEND;TZID=Europe/London:20260829T140000
DTSTAMP:20260419T160044
CREATED:20260407T162148Z
LAST-MODIFIED:20260407T162148Z
UID:23884-1787994000-1788012000@www.bowmenofbruntwood.co.uk
SUMMARY:Work Party
DESCRIPTION:
URL:https://www.bowmenofbruntwood.co.uk/index.php/event/work-party/
CATEGORIES:Work Party
ATTACH;FMTTYPE=image/jpeg:https://www.bowmenofbruntwood.co.uk/wp-content/uploads/2023/04/IMG_4100.jpeg
END:VEVENT
END:VCALENDAR