BEGIN:VCALENDAR
VERSION:2.0
PRODID:-//Bowmen of Bruntwood - ECPv6.15.20//NONSGML v1.0//EN
CALSCALE:GREGORIAN
METHOD:PUBLISH
X-WR-CALNAME:Bowmen of Bruntwood
X-ORIGINAL-URL:https://www.bowmenofbruntwood.co.uk
X-WR-CALDESC:Events for Bowmen of Bruntwood
REFRESH-INTERVAL;VALUE=DURATION:PT1H
X-Robots-Tag:noindex
X-PUBLISHED-TTL:PT1H
BEGIN:VTIMEZONE
TZID:Europe/London
BEGIN:DAYLIGHT
TZOFFSETFROM:+0000
TZOFFSETTO:+0100
TZNAME:BST
DTSTART:20250330T010000
END:DAYLIGHT
BEGIN:STANDARD
TZOFFSETFROM:+0100
TZOFFSETTO:+0000
TZNAME:GMT
DTSTART:20251026T010000
END:STANDARD
BEGIN:DAYLIGHT
TZOFFSETFROM:+0000
TZOFFSETTO:+0100
TZNAME:BST
DTSTART:20260329T010000
END:DAYLIGHT
BEGIN:STANDARD
TZOFFSETFROM:+0100
TZOFFSETTO:+0000
TZNAME:GMT
DTSTART:20261025T010000
END:STANDARD
BEGIN:DAYLIGHT
TZOFFSETFROM:+0000
TZOFFSETTO:+0100
TZNAME:BST
DTSTART:20270328T010000
END:DAYLIGHT
BEGIN:STANDARD
TZOFFSETFROM:+0100
TZOFFSETTO:+0000
TZNAME:GMT
DTSTART:20271031T010000
END:STANDARD
END:VTIMEZONE
BEGIN:VEVENT
DTSTART;TZID=Europe/London:20260411T090000
DTEND;TZID=Europe/London:20260411T120000
DTSTAMP:20260419T160126
CREATED:20260407T162134Z
LAST-MODIFIED:20260407T162134Z
UID:23880-1775898000-1775908800@www.bowmenofbruntwood.co.uk
SUMMARY:Beginners Course – Morning Session (Part 1)
DESCRIPTION:
URL:https://www.bowmenofbruntwood.co.uk/index.php/event/beginners-course-morning-session-part-1/
CATEGORIES:Beginners Coaching
ATTACH;FMTTYPE=image/jpeg:https://www.bowmenofbruntwood.co.uk/wp-content/uploads/2023/04/IMG_5003.jpg
END:VEVENT
END:VCALENDAR